
BEGIN:VCALENDAR
VERSION:2.0
PRODID:-//MarkedsPartner AS//Umbraco CMS//NO
TIMEZONE-ID:Europe/Oslo
X-WR-TIMEZONE:Europe/Oslo


BEGIN:VEVENT
UID:1822e16c65a04033a038f1620cd16047
URL:https://stavangernaering-2023.azurewebsites.net/en/events/archive/attractive-finance-hub/
ORGANIZER;CN=Ola Normann:MAILTO:ola.normann@markedspartner.no
DTSTAMP:20191023T163000Z
DTSTART:20191023T163000Z
DTEND:20191023T190000Z
LAST-MODIFIED:20200612T113326Z
SUMMARY:Attractive Finance Hub
DESCRIPTION:We hereby invite all finance students to a social and inspirational evening to hear more about future jobs in the finance sector.
X-ALT-DESC:We hereby invite all finance students to a social and inspirational evening to hear more about future jobs in the finance sector.
LOCATION:Rosenkildehuset
END:VEVENT


END:VCALENDAR



