
BEGIN:VCALENDAR
VERSION:2.0
PRODID:-//MarkedsPartner AS//Umbraco CMS//NO
TIMEZONE-ID:Europe/Oslo
X-WR-TIMEZONE:Europe/Oslo


BEGIN:VEVENT
UID:11736f9a18bc4c4fa502ec4c981ad5dd
URL:https://stavangernaering-2023.azurewebsites.net/en/events/archive/area-orientation_okt24/
ORGANIZER;CN=Ola Normann:MAILTO:ola.normann@markedspartner.no
DTSTAMP:20241028T073000Z
DTSTART:20241028T073000Z
DTEND:20241028T143000Z
LAST-MODIFIED:20241029T141250Z
SUMMARY:Area Orientation program 
DESCRIPTION:A cultural awareness course - breaking down Norwegian culture both at work and in private. As well as many practicalities for fast-paced adaptation to a new host country.
X-ALT-DESC:A cultural awareness course - breaking down Norwegian culture both at work and in private. As well as many practicalities for fast-paced adaptation to a new host country.
LOCATION:Rosenkildehuset, Strandkaien 6, 4005 Stavanger
END:VEVENT


END:VCALENDAR



