
BEGIN:VCALENDAR
VERSION:2.0
PRODID:-//MarkedsPartner AS//Umbraco CMS//NO
TIMEZONE-ID:Europe/Oslo
X-WR-TIMEZONE:Europe/Oslo


BEGIN:VEVENT
UID:1fa73e075aae4caeb77dcdb52ad1ef8b
URL:https://stavangernaering-2023.azurewebsites.net/en/events/archive/area-orientation_jan24/
ORGANIZER;CN=Ola Normann:MAILTO:ola.normann@markedspartner.no
DTSTAMP:20240123T073000Z
DTSTART:20240123T073000Z
DTEND:20240123T143000Z
LAST-MODIFIED:20240125T110927Z
SUMMARY:Area Orientation program 
DESCRIPTION:SCI is a support program run by the Stavanger Chamber of Commerce. Our goal is to assist newcomers and their families in adapting to Norwegian life in the best possible way. By providing the right support in the early stages of relocating, both employees and company will benefit greatly.
X-ALT-DESC:SCI is a support program run by the Stavanger Chamber of Commerce. Our goal is to assist newcomers and their families in adapting to Norwegian life in the best possible way. By providing the right support in the early stages of relocating, both employees and company will benefit greatly.
LOCATION:Rosenkildehuset, Strandkaien 6, 4005 Stavanger
END:VEVENT


END:VCALENDAR



