
BEGIN:VCALENDAR
VERSION:2.0
PRODID:-//MarkedsPartner AS//Umbraco CMS//NO
TIMEZONE-ID:Europe/Oslo
X-WR-TIMEZONE:Europe/Oslo


BEGIN:VEVENT
UID:98ccb06d42084df9a540479af369bbfa
URL:https://stavangernaering-2023.azurewebsites.net/en/events/archive/area-orientation_0904/
ORGANIZER;CN=Ola Normann:MAILTO:ola.normann@markedspartner.no
DTSTAMP:20240409T063000Z
DTSTART:20240409T063000Z
DTEND:20240409T133000Z
LAST-MODIFIED:20240410T103845Z
SUMMARY:Area Orientation program 
DESCRIPTION:A cultural awareness course - breaking down Norwegian culture both at work and in private. As well as many practicalities for fast-paced adaptation to a new host country.
X-ALT-DESC:A cultural awareness course - breaking down Norwegian culture both at work and in private. As well as many practicalities for fast-paced adaptation to a new host country.
LOCATION:Rosenkildehuset, Strandkaien 6, 4005 Stavanger
END:VEVENT


END:VCALENDAR



