
BEGIN:VCALENDAR
VERSION:2.0
PRODID:-//MarkedsPartner AS//Umbraco CMS//NO
TIMEZONE-ID:Europe/Oslo
X-WR-TIMEZONE:Europe/Oslo


BEGIN:VEVENT
UID:8b3d2c1df3284a71840ed802fe7bfb95
URL:https://stavangernaering-2023.azurewebsites.net/en/events/archive/area-orientation-program_-september2023/
ORGANIZER;CN=Ola Normann:MAILTO:ola.normann@markedspartner.no
DTSTAMP:20230912T063000Z
DTSTART:20230912T063000Z
DTEND:20230912T133000Z
LAST-MODIFIED:20230918T085008Z
SUMMARY:Area Orientation program 
DESCRIPTION:SCI is a support program run by the Stavanger Chamber of Commerce. Our goal is to assist newcomers and their families in adapting to Norwegian life in the best possible way. By providing the right support in the early stages of relocating, both employees and company will benefit greatly.
X-ALT-DESC:SCI is a support program run by the Stavanger Chamber of Commerce. Our goal is to assist newcomers and their families in adapting to Norwegian life in the best possible way. By providing the right support in the early stages of relocating, both employees and company will benefit greatly.
LOCATION:Rosenkildehuset, Strandkaien 6, 4005 Stavanger
END:VEVENT


END:VCALENDAR



