
BEGIN:VCALENDAR
VERSION:2.0
PRODID:-//MarkedsPartner AS//Umbraco CMS//NO
TIMEZONE-ID:Europe/Oslo
X-WR-TIMEZONE:Europe/Oslo


BEGIN:VEVENT
UID:8493a1f872274e9eaf2bf1aa0e0a5802
URL:https://stavangernaering-2023.azurewebsites.net/en/events/archive/area-orientation-program_-september-ii2023/
ORGANIZER;CN=Ola Normann:MAILTO:ola.normann@markedspartner.no
DTSTAMP:20230927T062000Z
DTSTART:20230927T062000Z
DTEND:20230927T132000Z
LAST-MODIFIED:20230929T060344Z
SUMMARY:Area Orientation program 
DESCRIPTION:SCI is a support program run by the Stavanger Chamber of Commerce. Our goal is to assist newcomers and their families in adapting to Norwegian life in the best possible way. By providing the right support in the early stages of relocating, both employees and company will benefit greatly.
X-ALT-DESC:SCI is a support program run by the Stavanger Chamber of Commerce. Our goal is to assist newcomers and their families in adapting to Norwegian life in the best possible way. By providing the right support in the early stages of relocating, both employees and company will benefit greatly.
LOCATION:Rosenkildehuset, Strandkaien 6, 4005 Stavanger
END:VEVENT


END:VCALENDAR



