
BEGIN:VCALENDAR
VERSION:2.0
PRODID:-//MarkedsPartner AS//Umbraco CMS//NO
TIMEZONE-ID:Europe/Oslo
X-WR-TIMEZONE:Europe/Oslo


BEGIN:VEVENT
UID:b03b8bfbb0384e92b6ec1a2dec0da56e
URL:https://stavangernaering-2023.azurewebsites.net/en/events/archive/area-orientation-program_-november-2023/
ORGANIZER;CN=Ola Normann:MAILTO:ola.normann@markedspartner.no
DTSTAMP:20231121T073000Z
DTSTART:20231121T073000Z
DTEND:20231121T143000Z
LAST-MODIFIED:20231122T101203Z
SUMMARY:Area Orientation program 
DESCRIPTION:SCI is a support program run by the Stavanger Chamber of Commerce. Our goal is to assist newcomers and their families in adapting to Norwegian life in the best possible way. By providing the right support in the early stages of relocating, both employees and company will benefit greatly.
X-ALT-DESC:SCI is a support program run by the Stavanger Chamber of Commerce. Our goal is to assist newcomers and their families in adapting to Norwegian life in the best possible way. By providing the right support in the early stages of relocating, both employees and company will benefit greatly.
LOCATION:Rosenkildehuset, Strandkaien 6, 4005 Stavanger
END:VEVENT


END:VCALENDAR



