
BEGIN:VCALENDAR
VERSION:2.0
PRODID:-//MarkedsPartner AS//Umbraco CMS//NO
TIMEZONE-ID:Europe/Oslo
X-WR-TIMEZONE:Europe/Oslo


BEGIN:VEVENT
UID:c6d0bd67531e4ece8f69726e10655751
URL:https://stavangernaering-2023.azurewebsites.net/en/events/archive/area-orientation-_marchii2023/
ORGANIZER;CN=Ola Normann:MAILTO:ola.normann@markedspartner.no
DTSTAMP:20230329T063000Z
DTSTART:20230329T063000Z
DTEND:20230329T133000Z
LAST-MODIFIED:20230331T130012Z
SUMMARY:Area Orientation program
DESCRIPTION:SCI is a support program run by the Stavanger Chamber of Commerce. Our goal is to assist newcomers and their families in adapting to Norwegian life in the best possible way. By providing the right support in the early stages of relocating, both employees and company will benefit greatly.
X-ALT-DESC:SCI is a support program run by the Stavanger Chamber of Commerce. Our goal is to assist newcomers and their families in adapting to Norwegian life in the best possible way. By providing the right support in the early stages of relocating, both employees and company will benefit greatly.
LOCATION:Rosenkildehuset, Strandkaien 6, 4005 Stavanger
END:VEVENT


END:VCALENDAR



