
BEGIN:VCALENDAR
VERSION:2.0
PRODID:-//MarkedsPartner AS//Umbraco CMS//NO
TIMEZONE-ID:Europe/Oslo
X-WR-TIMEZONE:Europe/Oslo


BEGIN:VEVENT
UID:6d01b551722d4822a1e19026a8e5547a
URL:https://stavangernaering-2023.azurewebsites.net/en/events/archive/area-orientation-_jan2023/
ORGANIZER;CN=Ola Normann:MAILTO:ola.normann@markedspartner.no
DTSTAMP:20230118T073000Z
DTSTART:20230118T073000Z
DTEND:20230118T143000Z
LAST-MODIFIED:20230306T174748Z
SUMMARY:Area Orientation program
DESCRIPTION:This programme emphasizes practical information about living and working in Norway and cross-cultural training in the Norwegian context. Topics covered in detail include history, politics, culture, Norwegian characteristics, the welfare system, safety, transportation and much more.
X-ALT-DESC:This programme emphasizes practical information about living and working in Norway and cross-cultural training in the Norwegian context. Topics covered in detail include history, politics, culture, Norwegian characteristics, the welfare system, safety, transportation and much more.
LOCATION:Rosenkildehuset, Strandkaien 6, 4005 Stavanger
END:VEVENT


END:VCALENDAR



