
BEGIN:VCALENDAR
VERSION:2.0
PRODID:-//MarkedsPartner AS//Umbraco CMS//NO
TIMEZONE-ID:Europe/Oslo
X-WR-TIMEZONE:Europe/Oslo


BEGIN:VEVENT
UID:e95c3f5918d242939354b2b4ac6bc637
URL:https://stavangernaering-2023.azurewebsites.net/en/events/archive/area-orientation-_april-2022-2/
ORGANIZER;CN=Ola Normann:MAILTO:ola.normann@markedspartner.no
DTSTAMP:20220426T063000Z
DTSTART:20220426T063000Z
DTEND:20220426T133000Z
LAST-MODIFIED:20220426T134103Z
SUMMARY:Area Orientation program
DESCRIPTION:This programme emphasizes practical information about living and working in Norway and cross-cultural training in the Norwegian context.
X-ALT-DESC:This programme emphasizes practical information about living and working in Norway and cross-cultural training in the Norwegian context.
LOCATION:Rosenkildehuset, Strandkaien 6, 4005 Stavanger
END:VEVENT


END:VCALENDAR



