
BEGIN:VCALENDAR
VERSION:2.0
PRODID:-//MarkedsPartner AS//Umbraco CMS//NO
TIMEZONE-ID:Europe/Oslo
X-WR-TIMEZONE:Europe/Oslo


BEGIN:VEVENT
UID:780a8f0286724390b06ccd6b92bb224f
URL:https://stavangernaering-2023.azurewebsites.net/en/events/archive/along-the-coast_tungenes/
ORGANIZER;CN=Ola Normann:MAILTO:ola.normann@markedspartner.no
DTSTAMP:20220519T163000Z
DTSTART:20220519T163000Z
DTEND:20220519T190000Z
LAST-MODIFIED:20220520T131405Z
SUMMARY:Along the coast: Tungenes Lighthouse
DESCRIPTION:This evening we will start at Tungenes Fyr (lighthouse) and make a round trip, about 8 kilometer. We will follow a nice trail along the fjord to Mekjarvik, and further to Sande Beach and along the  coast back to Tungenes. Hiking boots recommended!
X-ALT-DESC:This evening we will start at Tungenes Fyr (lighthouse) and make a round trip, about 8 kilometer. We will follow a nice trail along the fjord to Mekjarvik, and further to Sande Beach and along the  coast back to Tungenes. Hiking boots recommended!
LOCATION:Tungenes
END:VEVENT


END:VCALENDAR



