
BEGIN:VCALENDAR
VERSION:2.0
PRODID:-//MarkedsPartner AS//Umbraco CMS//NO
TIMEZONE-ID:Europe/Oslo
X-WR-TIMEZONE:Europe/Oslo


BEGIN:VEVENT
UID:63b56b95b4fb4890bd7d4674816aee5f
URL:https://stavangernaering-2023.azurewebsites.net/en/events/archive/along-the-coast_may/
ORGANIZER;CN=Ola Normann:MAILTO:ola.normann@markedspartner.no
DTSTAMP:20220531T163000Z
DTSTART:20220531T163000Z
DTEND:20220531T190000Z
LAST-MODIFIED:20220601T060532Z
SUMMARY:Along the coast: Hafrsfjord - Kvernevik
DESCRIPTION:Join ut on a wonderful hike along the coast of Hafrsfjord.
X-ALT-DESC:Join ut on a wonderful hike along the coast of Hafrsfjord.
LOCATION:Meet at Revheim skole, Revheimsveien 128, 4043 Hafrsfjord
END:VEVENT


END:VCALENDAR



