
BEGIN:VCALENDAR
VERSION:2.0
PRODID:-//MarkedsPartner AS//Umbraco CMS//NO
TIMEZONE-ID:Europe/Oslo
X-WR-TIMEZONE:Europe/Oslo


BEGIN:VEVENT
UID:30b248023f8d40e3bfac644dacb2da2f
URL:https://stavangernaering-2023.azurewebsites.net/en/events/archive/along-the-coast-vennskapshyttaa24/
ORGANIZER;CN=Ola Normann:MAILTO:ola.normann@markedspartner.no
DTSTAMP:20240610T160000Z
DTSTART:20240610T160000Z
DTEND:20240610T183000Z
LAST-MODIFIED:20240612T060642Z
SUMMARY:Along the coast – Vennskapshyttå
DESCRIPTION:Join us for a social walk-and-talk to one of the many regional "dagsturhytte" located at Hundvåg.
X-ALT-DESC:Join us for a social walk-and-talk to one of the many regional &quot;dagsturhytte&quot; located at Hundv&#229;g.
LOCATION:Vennskapshytt&#229;, Hundv&#229;g 
END:VEVENT


END:VCALENDAR



