
BEGIN:VCALENDAR
VERSION:2.0
PRODID:-//MarkedsPartner AS//Umbraco CMS//NO
TIMEZONE-ID:Europe/Oslo
X-WR-TIMEZONE:Europe/Oslo


BEGIN:VEVENT
UID:1ca50de80ee54e35b50d1d9721a0de1a
URL:https://stavangernaering-2023.azurewebsites.net/en/events/archive/along-the-coast-revheim_mai25/
ORGANIZER;CN=Ola Normann:MAILTO:ola.normann@markedspartner.no
DTSTAMP:20250513T160000Z
DTSTART:20250513T160000Z
DTEND:20250513T183000Z
LAST-MODIFIED:20250515T132646Z
SUMMARY:Hiking Revheim - Kvernevik
DESCRIPTION:Join us on a wonderful hike along the coast of Hafrsfjord.
X-ALT-DESC:Join us on a wonderful hike along the coast of Hafrsfjord.
LOCATION:Revheim skole, Revheimsveien 128, 4043 Hafrsfjord
END:VEVENT


END:VCALENDAR



