
BEGIN:VCALENDAR
VERSION:2.0
PRODID:-//MarkedsPartner AS//Umbraco CMS//NO
TIMEZONE-ID:Europe/Oslo
X-WR-TIMEZONE:Europe/Oslo


BEGIN:VEVENT
UID:78a72fd3db8b483cba970c3b2fa45d4d
URL:https://stavangernaering-2023.azurewebsites.net/en/events/archive/along-the-coast-revheim-may-2023/
ORGANIZER;CN=Ola Normann:MAILTO:ola.normann@markedspartner.no
DTSTAMP:20230531T163000Z
DTSTART:20230531T163000Z
DTEND:20230531T190000Z
LAST-MODIFIED:20230601T201337Z
SUMMARY:Along the coast: Revheim - Kvernevik
DESCRIPTION:Join ut on a wonderful hike along the coast of Hafrsfjord.
X-ALT-DESC:Join ut on a wonderful hike along the coast of Hafrsfjord.
LOCATION:Meet at Revheim skole, Revheimsveien 128, 4043 Hafrsfjord
END:VEVENT


END:VCALENDAR



