
BEGIN:VCALENDAR
VERSION:2.0
PRODID:-//MarkedsPartner AS//Umbraco CMS//NO
TIMEZONE-ID:Europe/Oslo
X-WR-TIMEZONE:Europe/Oslo


BEGIN:VEVENT
UID:adb9f03eef0a4dcc9b717631ebf83793
URL:https://stavangernaering-2023.azurewebsites.net/en/events/archive/along-the-coast-revheim-june2024/
ORGANIZER;CN=Ola Normann:MAILTO:ola.normann@markedspartner.no
DTSTAMP:20240603T163000Z
DTSTART:20240603T163000Z
DTEND:20240603T190000Z
LAST-MODIFIED:20240604T112558Z
SUMMARY:Hiking Revheim - Kvernevik
DESCRIPTION:Join us on a wonderful hike along the coast of Hafrsfjord.
X-ALT-DESC:Join us on a wonderful hike along the coast of Hafrsfjord.
LOCATION:Meet at Revheim skole, Revheimsveien 128, 4043 Hafrsfjord
END:VEVENT


END:VCALENDAR



