
BEGIN:VCALENDAR
VERSION:2.0
PRODID:-//MarkedsPartner AS//Umbraco CMS//NO
TIMEZONE-ID:Europe/Oslo
X-WR-TIMEZONE:Europe/Oslo


BEGIN:VEVENT
UID:57af85ea23a649279cd5fd88ce373ce2
URL:https://stavangernaering-2023.azurewebsites.net/en/events/archive/along-the-coast-hafrsfjord-august2023/
ORGANIZER;CN=Ola Normann:MAILTO:ola.normann@markedspartner.no
DTSTAMP:20230822T163000Z
DTSTART:20230822T163000Z
DTEND:20230822T190000Z
LAST-MODIFIED:20230823T152140Z
SUMMARY:Along the coast: Hafrsfjord - Revheim
DESCRIPTION:Join us on a wonderful hike along the coast of Hafrsfjord. Møllebukta and the three swords is a historical spot and will be your first place to take future guests if you are the guide.
X-ALT-DESC:Join us on a wonderful hike along the coast of Hafrsfjord. M&#248;llebukta and the three swords is a historical spot and will be your first place to take future guests if you are the guide.
LOCATION:Meet at &quot;Sverd i Fjell&quot;,  M&#248;llebukta, 4044 Hafrsfjord
END:VEVENT


END:VCALENDAR



