
BEGIN:VCALENDAR
VERSION:2.0
PRODID:-//MarkedsPartner AS//Umbraco CMS//NO
TIMEZONE-ID:Europe/Oslo
X-WR-TIMEZONE:Europe/Oslo


BEGIN:VEVENT
UID:4070ff1e2eae4e3cbab1456b0c33c9ee
URL:https://stavangernaering-2023.azurewebsites.net/en/events/archive/along-the-coast-clean-up_sept23/
ORGANIZER;CN=Ola Normann:MAILTO:ola.normann@markedspartner.no
DTSTAMP:20230928T153000Z
DTSTART:20230928T153000Z
DTEND:20230928T180000Z
LAST-MODIFIED:20230929T060411Z
SUMMARY:Walk and talk - clean up edition 
DESCRIPTION:You will get acquainted with the Storhaug neighborhood, forage for blackberries and expand you network and improve our footprint at the same time!
X-ALT-DESC:You will get acquainted with the Storhaug neighborhood, forage for blackberries and expand you network and improve our footprint at the same time!
LOCATION:Str&#248;mvigveien 15, 4012 Stavanger
END:VEVENT


END:VCALENDAR



