
BEGIN:VCALENDAR
VERSION:2.0
PRODID:-//MarkedsPartner AS//Umbraco CMS//NO
TIMEZONE-ID:Europe/Oslo
X-WR-TIMEZONE:Europe/Oslo


BEGIN:VEVENT
UID:e5f545c4a70347f898f06de23b5763b7
URL:https://stavangernaering-2023.azurewebsites.net/en/events/archive/ai-skills_181124/
ORGANIZER;CN=Ola Normann:MAILTO:ola.normann@markedspartner.no
DTSTAMP:20241118T173000Z
DTSTART:20241118T173000Z
DTEND:20241118T200000Z
LAST-MODIFIED:20241119T091858Z
SUMMARY:AI: From Planning to Execution
DESCRIPTION:As AI rapidly transforms the way we work, it's crucial for businesses to be prepared. In this session, we’ll guide you through the steps to get your business ready for AI, from understanding its impact on modern work to implementing the right tools and strategies.
X-ALT-DESC:As AI rapidly transforms the way we work, it&#39;s crucial for businesses to be prepared. In this session, we’ll guide you through the steps to get your business ready for AI, from understanding its impact on modern work to implementing the right tools and strategies.
LOCATION:Rosenkildehuset, Strandkaien 6, 4005 Stavanger
END:VEVENT


END:VCALENDAR



