
BEGIN:VCALENDAR
VERSION:2.0
PRODID:-//MarkedsPartner AS//Umbraco CMS//NO
TIMEZONE-ID:Europe/Oslo
X-WR-TIMEZONE:Europe/Oslo


BEGIN:VEVENT
UID:89b2cb0a39b44ed9b3dfd12fa3e9dc2e
URL:https://stavangernaering-2023.azurewebsites.net/en/events/archive/advance-your-career-with-accent-modification-coaching/
ORGANIZER;CN=Ola Normann:MAILTO:ola.normann@markedspartner.no
DTSTAMP:20200305T173000Z
DTSTART:20200305T173000Z
DTEND:20200305T200000Z
LAST-MODIFIED:20200612T113330Z
SUMMARY:Advance your career with accent modification coaching
DESCRIPTION:Target audience: Professionals with proficiency in English as their foreign language
X-ALT-DESC:Target audience: Professionals with proficiency in English as their foreign language
LOCATION:Rosenkildehuset
END:VEVENT


END:VCALENDAR



