
BEGIN:VCALENDAR
VERSION:2.0
PRODID:-//MarkedsPartner AS//Umbraco CMS//NO
TIMEZONE-ID:Europe/Oslo
X-WR-TIMEZONE:Europe/Oslo


BEGIN:VEVENT
UID:0c04c92bf3cb4b07a8d21ecf8d6cb344
URL:https://stavangernaering-2023.azurewebsites.net/en/events/archive/170221canada_hydrogen/
ORGANIZER;CN=Ola Normann:MAILTO:ola.normann@markedspartner.no
DTSTAMP:20210217T140000Z
DTSTART:20210217T140000Z
DTEND:20210217T144500Z
LAST-MODIFIED:20210219T065033Z
SUMMARY:Norway - Canada Hydrogen Webinar
DESCRIPTION:Norway and Canada are both at the forefront of the current hydrogen transition – join us in exploring current synergies and opportunities.
X-ALT-DESC:Norway and Canada are both at the forefront of the current hydrogen transition – join us in exploring current synergies and opportunities.
LOCATION:Online
END:VEVENT


END:VCALENDAR



